BEGIN:VCALENDAR
VERSION:2.0
PRODID:-//Monthly Dignity | Menstrual Equity Now - ECPv6.15.20//NONSGML v1.0//EN
CALSCALE:GREGORIAN
METHOD:PUBLISH
X-WR-CALNAME:Monthly Dignity | Menstrual Equity Now
X-ORIGINAL-URL:https://monthlydignity.org
X-WR-CALDESC:Events for Monthly Dignity | Menstrual Equity Now
REFRESH-INTERVAL;VALUE=DURATION:PT1H
X-Robots-Tag:noindex
X-PUBLISHED-TTL:PT1H
BEGIN:VTIMEZONE
TZID:America/Toronto
BEGIN:DAYLIGHT
TZOFFSETFROM:-0500
TZOFFSETTO:-0400
TZNAME:EDT
DTSTART:20250309T070000
END:DAYLIGHT
BEGIN:STANDARD
TZOFFSETFROM:-0400
TZOFFSETTO:-0500
TZNAME:EST
DTSTART:20251102T060000
END:STANDARD
BEGIN:DAYLIGHT
TZOFFSETFROM:-0500
TZOFFSETTO:-0400
TZNAME:EDT
DTSTART:20260308T070000
END:DAYLIGHT
BEGIN:STANDARD
TZOFFSETFROM:-0400
TZOFFSETTO:-0500
TZNAME:EST
DTSTART:20261101T060000
END:STANDARD
BEGIN:DAYLIGHT
TZOFFSETFROM:-0500
TZOFFSETTO:-0400
TZNAME:EDT
DTSTART:20270314T070000
END:DAYLIGHT
BEGIN:STANDARD
TZOFFSETFROM:-0400
TZOFFSETTO:-0500
TZNAME:EST
DTSTART:20271107T060000
END:STANDARD
END:VTIMEZONE
BEGIN:VEVENT
DTSTART;TZID=America/Toronto:20260602T183000
DTEND;TZID=America/Toronto:20260602T233000
DTSTAMP:20260421T065031
CREATED:20260416T202320Z
LAST-MODIFIED:20260420T150545Z
UID:2489-1780425000-1780443000@monthlydignity.org
SUMMARY:Annual Gala
DESCRIPTION:Gala Annuel for menstrual equity!\nJoin us for an unforgettable evening in celebration of Menstrual Health Day! Each year\, our Annual Gala brings together our community to reflect on the progress made\, honour the people behind our mission\, and share a festive night full of joy and connection. \nThis year’s program includes:\n🎤 2 stand-up comedians\n⭐️ a drag queen performance\n🪩 DJ set\n🎁 Raffle prizes to win! \nCome celebrate with us\, learn about Monthly Dignity’s impact over the past year\, and help us raise awareness about period poverty in Montreal.
URL:https://monthlydignity.org/calendar/annual-gala/
LOCATION:La Sala Rossa\, 4848 Boul. Saint-Laurent\, Montréal\, Québec\, H2T 1R5\, Canada
ATTACH;FMTTYPE=image/png:https://monthlydignity.org/wp-content/uploads/2026/04/GALA-MD-2026-carre-VF.png
END:VEVENT
END:VCALENDAR